BEGIN:VCALENDAR
VERSION:2.0
PRODID:-//ChamberMaster//Event Calendar 2.0//EN
METHOD:PUBLISH
X-PUBLISHED-TTL:P3D
REFRESH-INTERVAL:P3D
CALSCALE:GREGORIAN
BEGIN:VEVENT
DTSTART:20210926T131500Z
DTEND:20210926T131500Z
X-MICROSOFT-CDO-ALLDAYEVENT:FALSE
SUMMARY:MHCoC Car Show
DESCRIPTION:PLEASE NOTE: This will is a stand-alone event. This car show was originally planned to take place during the Taste of Morgan Hill\, which has been canceled. \n\n\n\nMorgan Hill's Biggest and Best "All Makes & Models Fall Car Show"\n\n\n\n\n\nYour entry fee includes continental breakfast  for two\n\n\n\nParticipants are encouraged to enjoy the offerings of Morgan Hill's fantastic downtown restaurants or you own running board lunch.\n\n\n\nThis show is open to all cars and motorcycles of interest and is not restricted by model year. Participants and spectators judge entrants via ballots for 6 different categories with awards for 1st and 2nd place.\n\n\n\nShow vehicle check-in and registration will be available starting at 6:15AM.   Check-in closes at 9:00AM.\n\n\n\n \n\nPark your vehicle anytime between 6:30AM and 9:00AM.  \n\nNO vehicle traffic will be allowed to move on the show grounds after 9:30AM. \n\nVehicles parked along the median strip will be parallel parked. Vehicles parked along the sidewalks will be diagonally parked. \n\n*Volunteers will be on hand to direct vehicle placement.\n\n\n\nShow parking spaces are NOT pre-assigned.  If you want to park with friends\, your club or any other group please arrive together.\n\n\n\nCLICK HERE TO REGISTER ONLINE
X-ALT-DESC;FMTTYPE=text/html:<strong><span style="font-size: 14pt\; line-height: 115%\; font-family: Arial\, sans-serif\;"><span style="background-color:#FFFF00\;">PLEASE NOTE: </span></span><span style="font-size: 14pt\; line-height: 21.4667px\; font-family: Arial\, sans-serif\;"><span style="background-color:#FFFF00\;">This will is a stand-alone event.</span>&nbsp\;</span><span style="font-size: 14pt\; line-height: 115%\; font-family: Arial\, sans-serif\;">This car show was originally planned to take place during the Taste of Morgan Hill\, which has been canceled.&nbsp\;<br />\n<br />\nMorgan Hill&#39\;s Biggest and Best &quot\;All Makes &amp\; Models Fall Car Show&quot\;</span></strong><br />\n<br />\n<br />\n<em><b><u><span style="font-size: 14pt\; line-height: 115%\; font-family: Arial\, sans-serif\; background-image: initial\; background-position: initial\; background-size: initial\; background-repeat: initial\; background-attachment: initial\; background-origin: initial\; background-clip: initial\;"><span style="background-color:#FFFF00\;">Your entry fee includes&nbsp\;continental breakfast</span></span></u></b></em><u><span style="font-size: 14pt\; line-height: 115%\; font-family: Arial\, sans-serif\; background-image: initial\; background-position: initial\; background-size: initial\; background-repeat: initial\; background-attachment: initial\; background-origin: initial\; background-clip: initial\;"><span style="background-color:#FFFF00\;">&nbsp\;</span><em><b><span style="font-family:"><span style="background-color:#FFFF00\;">&nbsp\;for two</span></span></b></em></span></u><br />\n<br />\n<span style="font-size: 14pt\; line-height: 115%\; font-family: Arial\, sans-serif\;">Participants are encouraged to enjoy the offerings of Morgan Hill&#39\;s fantastic downtown restaurants or you own running board lunch.<br />\n<br />\n<em><b><u><span style="font-family:"><span style="background-color:#FFFF00\;">This show is open to all cars and motorcycles of interest and is not restricted by model year.</span></span></u></b></em>&nbsp\;Participants and spectators judge entrants via ballots for 6 different categories with awards for 1<sup>st</sup>&nbsp\;and 2<sup>nd</sup>&nbsp\;place.<br />\n<br />\n<em><b><u><span style="font-family: Arial\, sans-serif\; background-image: initial\; background-position: initial\; background-size: initial\; background-repeat: initial\; background-attachment: initial\; background-origin: initial\; background-clip: initial\;"><span style="background-color:#FFFF00\;">Show vehicle check-in and registration will be available starting at 6:15AM. &nbsp\;&nbsp\;Check-in closes at 9:00AM.</span></span></u></b></em><br />\n<br />\n<strong><span style="font-family:">&nbsp\;</span></strong><br />\n<em><b><u><span style="font-family: Arial\, sans-serif\; background-image: initial\; background-position: initial\; background-size: initial\; background-repeat: initial\; background-attachment: initial\; background-origin: initial\; background-clip: initial\;"><span style="background-color:#FFFF00\;">Park your vehicle anytime between 6:30AM and 9:00AM.&nbsp\;</span></span></u></b></em><span style="background-image: initial\; background-position: initial\; background-size: initial\; background-repeat: initial\; background-attachment: initial\; background-origin: initial\; background-clip: initial\;"><span style="background-color:#FFFF00\;">&nbsp\;</span><br />\n<em><b><u><span style="font-family:"><span style="background-color:#FFFF00\;">NO vehicle traffic will be allowed to move on the show grounds after 9:30AM.</span></span></u></b></em></span>&nbsp\;<br />\nVehicles parked along the median strip will be parallel parked. Vehicles parked along the sidewalks will be diagonally parked.&nbsp\;<br />\n*Volunteers will be on hand to direct vehicle placement.<br />\n<br />\nShow parking spaces are&nbsp\;<strong><u><span style="font-family:">NOT</span></u></strong>&nbsp\;pre-assigned.&nbsp\; If you want to park with friends\, your club or any other group please arrive together.<br />\n<br />\n<span style="font-size:14px\;"><a href="http://business.morganhillchamber.org/events/details/2022-classic-and-custom-car-show-at-the-taste-of-morgan-hill-09-24-2022-42343"><span style="color:#0000FF\;">CLICK HERE TO REGISTER ONLINE</span></a></span></span>
LOCATION:Check-in will be at 5th St. and Monterey Rd. IMPORTANT: Due to construction\, we recommend accessing the car show by taking Butterfield Blvd\, then West on Main St\, left on Depot St.\, and right on 5th St. CLICK HERE TO REGISTER ONLINE
UID:e.1806.42344
SEQUENCE:3
DTSTAMP:20260424T033011Z
URL:https://business.morganhillchamber.org/events/details/2020-classic-and-custom-car-show-at-the-taste-of-morgan-hill-09-26-2021-42344
END:VEVENT

END:VCALENDAR
