BEGIN:VCALENDAR
VERSION:2.0
PRODID:-//ChamberMaster//Event Calendar 2.0//EN
METHOD:PUBLISH
X-PUBLISHED-TTL:P3D
REFRESH-INTERVAL:P3D
CALSCALE:GREGORIAN
BEGIN:VEVENT
DTSTART:20210408T193000Z
DTEND:20210408T203000Z
X-MICROSOFT-CDO-ALLDAYEVENT:FALSE
SUMMARY:Ambassador Meeting
DESCRIPTION:Ambassador Meeting\n\nChamber of Commerce Ambassadors
X-ALT-DESC;FMTTYPE=text/html:Ambassador Meeting<br />\nChamber of Commerce Ambassadors&nbsp\;
LOCATION:Chamber office in Guild Mortgage large conference room. (Mask required until you get inside the conf. room.)
UID:e.1806.36862
SEQUENCE:3
DTSTAMP:20260424T125903Z
URL:https://business.morganhillchamber.org/events/details/ambassador-meeting-36862
END:VEVENT

END:VCALENDAR
