BEGIN:VCALENDAR
VERSION:2.0
PRODID:-//ChamberMaster//Event Calendar 2.0//EN
METHOD:PUBLISH
X-PUBLISHED-TTL:P3D
REFRESH-INTERVAL:P3D
CALSCALE:GREGORIAN
BEGIN:VEVENT
DTSTART:20260418T190000Z
DTEND:20260418T230000Z
X-MICROSOFT-CDO-ALLDAYEVENT:FALSE
SUMMARY:Beginning Pochoir Stencil Printing with Carrie Ann Plank
DESCRIPTION:In this one-day workshop with exhibiting artist Carrie Ann Plank\, you will learn how to make your very own stencil prints using the French printing technique called Pochoir. Use hand-cut stencils to layer color onto an image\, creating rich\, luminous surfaces. All materials will be provided\, and each participant will leave with a finished work!
X-ALT-DESC;FMTTYPE=text/html:In this one-day workshop with exhibiting artist Carrie Ann Plank\, you will learn how to make your very own stencil prints using the French printing technique called Pochoir. Use hand-cut stencils to layer color onto an image\, creating rich\, luminous surfaces. All materials will be provided\, and each participant will leave with a finished work!
LOCATION:Cura Contemporary in the Edes Building | 17395 Monterey Road\, Morgan Hill CA\, 95037
UID:e.1806.44164
SEQUENCE:3
DTSTAMP:20260421T132639Z
URL:https://business.morganhillchamber.org/events/details/beginning-pochoir-stencil-printing-with-carrie-ann-plank-44164
END:VEVENT

END:VCALENDAR
