BEGIN:VCALENDAR
VERSION:2.0
PRODID:-//ChamberMaster//Event Calendar 2.0//EN
METHOD:PUBLISH
X-PUBLISHED-TTL:P3D
REFRESH-INTERVAL:P3D
CALSCALE:GREGORIAN
BEGIN:VEVENT
DTSTART:20260116T013000Z
DTEND:20260116T033000Z
X-MICROSOFT-CDO-ALLDAYEVENT:FALSE
SUMMARY:Chamber Networking Mixer: Westmont Living
DESCRIPTION:Monthly mixer for Chamber of Commerce Members.  You are encouraged to attend these monthly meetings to network with your fellow chamber members.  \n\n\n\nThis month we'll be at Westmont of Morgan Hill! Join us for the first networking mixer of 2026 and enjoy light refreshments and mingling with fellow chamber members! 1160 Cochrane Rd\, Morgan Hill.\n\n\n\nThis event is FREE to Chamber members and their guests\n\nPlease feel free to bring a raffle item to promote your business!
X-ALT-DESC;FMTTYPE=text/html:Monthly mixer for Chamber of Commerce Members. &nbsp\;You are encouraged to attend these monthly meetings to network with your fellow chamber members. &nbsp\;<br />\n<br />\nThis month we&#39\;ll be at Westmont of Morgan Hill! Join us for the first networking mixer of 2026 and enjoy light refreshments and mingling with fellow chamber members!&nbsp\;1160 Cochrane Rd\, Morgan Hill.<br />\n<br />\n<span style="background-color:#FFFF00\;">This event is <strong>FREE</strong> to Chamber members and their guests<br />\nPlease feel free to bring a raffle item to promote your business!</span>
LOCATION:1160 Cochrane Rd
UID:e.1806.43641
SEQUENCE:3
DTSTAMP:20260425T215256Z
URL:https://business.morganhillchamber.org/events/details/chamber-networking-mixer-01-15-2026-43641
END:VEVENT

END:VCALENDAR
