BEGIN:VCALENDAR
VERSION:2.0
PRODID:-//ChamberMaster//Event Calendar 2.0//EN
METHOD:PUBLISH
X-PUBLISHED-TTL:P3D
REFRESH-INTERVAL:P3D
CALSCALE:GREGORIAN
BEGIN:VEVENT
DTSTART:20260417T003000Z
DTEND:20260417T023000Z
X-MICROSOFT-CDO-ALLDAYEVENT:FALSE
SUMMARY:Chamber Networking Mixer
DESCRIPTION:Monthly mixer for Chamber of Commerce Members.  You are encouraged to attend these monthly meetings to network with your fellow chamber members.  \n\n\n\nThis month will be hosted by TBD\n\n\n\nThis event is FREE to Chamber members and their guests
X-ALT-DESC;FMTTYPE=text/html:Monthly mixer for Chamber of Commerce Members. &nbsp\;You are encouraged to attend these monthly meetings to network with your fellow chamber members. &nbsp\;<br />\n<br />\nThis month will be hosted by TBD<br />\n<br />\n<span style="background-color:#FFFF00\;">This event is <strong>FREE</strong> to Chamber members and their guests</span>
LOCATION:
UID:e.1806.43644
SEQUENCE:3
DTSTAMP:20260421T132407Z
URL:https://business.morganhillchamber.org/events/details/chamber-networking-mixer-04-16-2026-43644
END:VEVENT

END:VCALENDAR
