BEGIN:VCALENDAR
VERSION:2.0
PRODID:-//ChamberMaster//Event Calendar 2.0//EN
METHOD:PUBLISH
X-PUBLISHED-TTL:P3D
REFRESH-INTERVAL:P3D
CALSCALE:GREGORIAN
BEGIN:VEVENT
DTSTART:20260419T010000Z
DTEND:20260419T050000Z
X-MICROSOFT-CDO-ALLDAYEVENT:FALSE
SUMMARY:Community Solutions' Healing Hearts Gala
DESCRIPTION:Join us for an elegant evening of fun and fundraising to provide safety and care for local families in crisis. Prepare to be moved and inspired as you experience the struggles and joys of local families who are fighting to overcome violence\, abuse\, and the challenges of mental illness. Enjoy a champagne reception\, seated dinner\, live and silent auctions\, a lively game of Heads-or-Tails\, and more. You don't want to miss this dynamic\, inspiring and heart-warming event!
X-ALT-DESC;FMTTYPE=text/html:Join us for an elegant evening of fun and fundraising to provide safety and care for local families in crisis. Prepare to be moved and inspired as you experience the struggles and joys of local families who are fighting to overcome violence\, abuse\, and the challenges of mental illness. Enjoy a champagne reception\, seated dinner\, live and silent auctions\, a lively game of Heads-or-Tails\, and more. You don&rsquo\;t want to miss this dynamic\, inspiring and heart-warming event!
LOCATION:The Granada Theater\, 17440 Monterey Road\, Morgan Hill
UID:e.1806.43905
SEQUENCE:3
DTSTAMP:20260421T132444Z
URL:https://business.morganhillchamber.org/events/details/community-solutions-healing-hearts-gala-04-18-2026-43905
END:VEVENT

END:VCALENDAR
