BEGIN:VCALENDAR
VERSION:2.0
PRODID:-//ChamberMaster//Event Calendar 2.0//EN
METHOD:PUBLISH
X-PUBLISHED-TTL:P3D
REFRESH-INTERVAL:P3D
CALSCALE:GREGORIAN
BEGIN:VEVENT
DTSTART:20260517T210000Z
DTEND:20260518T000000Z
X-MICROSOFT-CDO-ALLDAYEVENT:FALSE
SUMMARY:Figure Drawing Collective - May
DESCRIPTION:Join us for our First Sunday's Figure Drawing Collective at Cura! This self-guided figure drawing collective will be available for intermediate to advanced artists who would like to draw from a live model.
X-ALT-DESC;FMTTYPE=text/html:Join us for our First Sunday&#39\;s&nbsp\;Figure Drawing Collective at Cura! This self-guided figure drawing collective will be available for intermediate to advanced artists who would like to draw from a live model.
LOCATION:Cura Contemporary 17395 Monterey Road\, Morgan Hill\, CA 95037
UID:e.1806.44174
SEQUENCE:3
DTSTAMP:20260421T151459Z
URL:https://business.morganhillchamber.org/events/details/figure-drawing-collective-may-05-17-2026-44174
END:VEVENT

END:VCALENDAR
