BEGIN:VCALENDAR
VERSION:2.0
PRODID:-//ChamberMaster//Event Calendar 2.0//EN
METHOD:PUBLISH
X-PUBLISHED-TTL:P3D
REFRESH-INTERVAL:P3D
CALSCALE:GREGORIAN
BEGIN:VEVENT
DTSTART:20260402T143000Z
DTEND:20260402T161500Z
X-MICROSOFT-CDO-ALLDAYEVENT:FALSE
SUMMARY:"Good Morning MH" Chamber Breakfast
DESCRIPTION:A monthly breakfast where Chamber of Commerce members gather to network\, find out information about Morgan Hill\, and introduce new chamber members. \n\n \n\nChamber members\, please feel free to bring a raffle prize to promote your business or yourself. Don't forget your business cards!
X-ALT-DESC;FMTTYPE=text/html:A monthly breakfast where Chamber of Commerce members gather to network\, find out information about Morgan Hill\, and introduce new chamber members.&nbsp\;<br />\n&nbsp\;<br />\n<u><strong>Chamber members\, please feel free to bring a raffle prize to promote your business or yourself. Don&#39\;t forget your business cards!</strong></u><br />\n<br />\n&nbsp\;
LOCATION:Community and Cultural Center (CCC) 17000 Monterey Rd\, Morgan Hill\, CA 95037
UID:e.1806.44060
SEQUENCE:3
DTSTAMP:20260421T132645Z
URL:https://business.morganhillchamber.org/events/details/good-morning-mh-chamber-breakfast-04-02-2026-44060
END:VEVENT

END:VCALENDAR
