BEGIN:VCALENDAR
VERSION:2.0
PRODID:-//ChamberMaster//Event Calendar 2.0//EN
METHOD:PUBLISH
X-PUBLISHED-TTL:P3D
REFRESH-INTERVAL:P3D
CALSCALE:GREGORIAN
BEGIN:VEVENT
DTSTART:20210414T020000Z
DTEND:20210414T030000Z
X-MICROSOFT-CDO-ALLDAYEVENT:FALSE
SUMMARY:Kiwanis Regular Meeting
DESCRIPTION:At our meetings\, we host speakers from the local area and beyond to share information about organizations\, happenings\, events and interesting topics.
X-ALT-DESC;FMTTYPE=text/html:<span style="font-family: &quot\;PT Sans&quot\;\, sans-serif\; font-size: 13px\; background-color: rgb(255\, 255\, 255)\;">&nbsp\;At our meetings\, we&nbsp\;host speakers from the local area and beyond to share information about organizations\, happenings\, events and interesting topics.</span>
LOCATION:Mama Mia's (Back Room) 275 E Dunne Ave Morgan Hill\, CA\, 95037 United States
UID:e.1806.40950
SEQUENCE:3
DTSTAMP:20260420T103457Z
URL:https://business.morganhillchamber.org/events/details/kiwanis-regular-meeting-04-13-2021-40950
END:VEVENT

END:VCALENDAR
