BEGIN:VCALENDAR
VERSION:2.0
PRODID:-//ChamberMaster//Event Calendar 2.0//EN
METHOD:PUBLISH
X-PUBLISHED-TTL:P3D
REFRESH-INTERVAL:P3D
CALSCALE:GREGORIAN
BEGIN:VEVENT
DTSTART:20260412T020000Z
DTEND:20260412T033000Z
X-MICROSOFT-CDO-ALLDAYEVENT:FALSE
SUMMARY:Opera Concert with Alliana Lili Yang
DESCRIPTION:Join us for an Opera Concert by 14-year-old vocal sensation Alliana Lili Yang. Alliana will be singing an impressive selection of music from the Lush Baroque and Romantic Era Art periods\, to Musical Theater and the Silver Screen. Dress in your opera attire and join us for an unforgettable evening!
X-ALT-DESC;FMTTYPE=text/html:Join us for an Opera Concert by 14-year-old vocal sensation Alliana Lili Yang. Alliana will be singing an impressive selection of music from the Lush Baroque and Romantic Era Art periods\, to Musical Theater and the Silver Screen. Dress in your opera attire and join us for an unforgettable evening!
LOCATION:17395 Monterey Rd\, Morgan Hill\, CA 95037
UID:e.1806.44163
SEQUENCE:3
DTSTAMP:20260421T134608Z
URL:https://business.morganhillchamber.org/events/details/opera-concert-with-alliana-lili-yang-44163
END:VEVENT

END:VCALENDAR
