BEGIN:VCALENDAR
VERSION:2.0
PRODID:-//ChamberMaster//Event Calendar 2.0//EN
METHOD:PUBLISH
X-PUBLISHED-TTL:P3D
REFRESH-INTERVAL:P3D
CALSCALE:GREGORIAN
BEGIN:VEVENT
DTSTART:20260425T170000Z
DTEND:20260425T203000Z
X-MICROSOFT-CDO-ALLDAYEVENT:FALSE
SUMMARY:Spring Watercolor Sketching with Suma CM
DESCRIPTION:Join us for this beginning watercolor workshop with artist Suma CM! Capture the vibrant hues of springtime with expressive line and juicy color. Through a series of exercises designed to build confidence\, we'll create several sketches using various styles of mark-making with pen\, pencil\, and watercolor.
X-ALT-DESC;FMTTYPE=text/html:Join us for this beginning watercolor workshop with artist Suma CM! Capture the vibrant hues of springtime with expressive line and juicy color. Through a series of exercises designed to build confidence\, we&rsquo\;ll create several sketches using various styles of mark-making with pen\, pencil\, and watercolor.
LOCATION:17395 Monterey Road\, Morgan Hill\, CA 95037
UID:e.1806.44165
SEQUENCE:3
DTSTAMP:20260421T132515Z
URL:https://business.morganhillchamber.org/events/details/spring-watercolor-sketching-with-suma-cm-04-25-2026-44165
END:VEVENT

END:VCALENDAR
