BEGIN:VCALENDAR
VERSION:2.0
PRODID:-//ChamberMaster//Event Calendar 2.0//EN
METHOD:PUBLISH
X-PUBLISHED-TTL:P3D
REFRESH-INTERVAL:P3D
CALSCALE:GREGORIAN
BEGIN:VEVENT
DTSTART:20260426T160000Z
DTEND:20260426T170000Z
X-MICROSOFT-CDO-ALLDAYEVENT:FALSE
SUMMARY:Yoga in the Gallery
DESCRIPTION:Join us for our April session of Yoga in the Gallery\, where you will practice yoga amongst art for a unique and relaxing experience with instructor Christene Joy. Strength Flow combines yoga\, strength training\, and cardio to boost metabolism\, build strength\, and increase flexibility\, while incorporating the breathwork and meditation to prioritize the mind-body connection.
X-ALT-DESC;FMTTYPE=text/html:Join us for our April session of Yoga in the Gallery\, where you will practice yoga amongst art for a unique and relaxing experience with instructor Christene Joy.&nbsp\;Strength Flow&nbsp\;combines yoga\, strength training\, and cardio to boost metabolism\, build strength\, and increase flexibility\, while incorporating the breathwork and meditation to prioritize the mind-body connection.
LOCATION:Cura Contemporary in the Edes Building | 17395 Monterey Road\, Morgan Hill CA\, 95037
UID:e.1806.44166
SEQUENCE:3
DTSTAMP:20260421T132906Z
URL:https://business.morganhillchamber.org/events/details/yoga-in-the-gallery-04-26-2026-44166
END:VEVENT

END:VCALENDAR
